BEGIN:VCALENDAR
VERSION:2.0
PRODID:-//https://pg-um-den-findelberg.de///NONSGML kigkonsult.se iCalcreator 2.10.15//
METHOD:PUBLISH
BEGIN:VEVENT
UID:20260420T155653CEST-0262OZVUUK@https://pg-um-den-findelberg.de/
DTSTAMP:20260420T135652Z
DESCRIPTION: https://pg-um-den-findelberg.de/aktuelles/termine/event/151-se
 niorennachmittag-in-der-brückenschänke
DTSTART:20260507T120000Z
DTEND:20260507T150000Z
LOCATION:Wülfershausen Brückenschänke (Hauptstraße 52\, 97618\, Wülfershaus
 en a.d. Saale\, Bayern)
SUMMARY:Seniorennachmittag in der Brückenschänke
URL:https://pg-um-den-findelberg.de/aktuelles/termine/event/151-seniorennac
 hmittag-in-der-brückenschänke
END:VEVENT
BEGIN:VEVENT
UID:20260420T155653CEST-0264Wio0bK@https://pg-um-den-findelberg.de/
DTSTAMP:20260420T135652Z
DESCRIPTION: https://pg-um-den-findelberg.de/aktuelles/termine/event/190-tr
 effen-des-seniorenkreises-saal-im-pfarrzentrum
DTSTART:20260506T120000Z
DTEND:20260506T150000Z
LOCATION:Saal Pfarrzentrum (Herrngasse 5\, 97633\, Saal a.d. Saale\, Bayern
 )
SUMMARY:Treffen des Seniorenkreises Saal im Pfarrzentrum
URL:https://pg-um-den-findelberg.de/aktuelles/termine/event/190-treffen-des
 -seniorenkreises-saal-im-pfarrzentrum
END:VEVENT
BEGIN:VEVENT
UID:20260420T155653CEST-0266XhImWh@https://pg-um-den-findelberg.de/
DTSTAMP:20260420T135652Z
DESCRIPTION: https://pg-um-den-findelberg.de/aktuelles/termine/event/195-er
 stkommunionfeier-2026
DTSTART:20260509T080000Z
DTEND:20260509T093000Z
LOCATION:Saal Pfarrkirche (An der Kirche\, 97633\, Saal a.d. Saale\, Bayern
 )
SUMMARY:Erstkommunionfeier 2026
URL:https://pg-um-den-findelberg.de/aktuelles/termine/event/195-erstkommuni
 onfeier-2026
END:VEVENT
BEGIN:VEVENT
UID:20260420T155653CEST-0267s45BGO@https://pg-um-den-findelberg.de/
DTSTAMP:20260420T135653Z
DESCRIPTION: https://pg-um-den-findelberg.de/aktuelles/termine/event/294-sp
 ielenachmittag
DTSTART:20260528T120000Z
DTEND:20260528T150000Z
LOCATION:Saal Pfarrzentrum (Herrngasse 5\, 97633\, Saal a.d. Saale\, Bayern
 )
SUMMARY:Spielenachmittag
URL:https://pg-um-den-findelberg.de/aktuelles/termine/event/294-spielenachm
 ittag
END:VEVENT
BEGIN:VEVENT
UID:20260420T155653CEST-02693ahW3X@https://pg-um-den-findelberg.de/
DTSTAMP:20260420T135653Z
DESCRIPTION: https://pg-um-den-findelberg.de/aktuelles/termine/event/295-se
 niorennachmittag-im-sportheim
DTSTART:20260611T120000Z
DTEND:20260611T150000Z
LOCATION:Wülfershausen DJK-Sportheim (Am Sportplatz 10\, 97618\, Wülfershau
 sen a.d. Saale\, Bayern)
SUMMARY:Seniorennachmittag im Sportheim
URL:https://pg-um-den-findelberg.de/aktuelles/termine/event/295-seniorennac
 hmittag-im-sportheim
END:VEVENT
BEGIN:VEVENT
UID:20260420T155653CEST-0270cbEnH2@https://pg-um-den-findelberg.de/
DTSTAMP:20260420T135653Z
DESCRIPTION:zum Mitfeiern\, Mitsingen\, Mitklatschen\nanschließend gemütlic
 hes Beisammensein mit Getränkeverkauf https://pg-um-den-findelberg.de/aktu
 elles/termine/event/307-gospelkonzert-mit-noisemaker
DTSTART:20260621T150000Z
DTEND:20260621T170000Z
LOCATION:Findelberg (Findelberg\, 97633\, Saal a.d. Saale\, Bayern)
SUMMARY:Gospelkonzert mit Noisemaker
URL:https://pg-um-den-findelberg.de/aktuelles/termine/event/307-gospelkonze
 rt-mit-noisemaker
END:VEVENT
BEGIN:VEVENT
UID:20260420T155653CEST-0272WTkVcw@https://pg-um-den-findelberg.de/
DTSTAMP:20260420T135653Z
DESCRIPTION:mit Segnung der Rosen und Einzelsegen https://pg-um-den-findelb
 erg.de/aktuelles/termine/event/305-gottesdienst-zum-ritafest
DTSTART:20260526T163000Z
DTEND:20260526T173000Z
LOCATION:Findelberg (Findelberg\, 97633\, Saal a.d. Saale\, Bayern)
SUMMARY:Gottesdienst zum Ritafest
URL:https://pg-um-den-findelberg.de/aktuelles/termine/event/305-gottesdiens
 t-zum-ritafest
END:VEVENT
BEGIN:VEVENT
UID:20260420T155653CEST-0273d6UEfj@https://pg-um-den-findelberg.de/
DTSTAMP:20260420T135653Z
DESCRIPTION: https://pg-um-den-findelberg.de/aktuelles/termine/event/306-tr
 effen-des-seniorenkreises-saal-im-pfarrzentrum
DTSTART:20260610T120000Z
DTEND:20260610T150000Z
LOCATION:Saal Pfarrzentrum (Herrngasse 5\, 97633\, Saal a.d. Saale\, Bayern
 )
SUMMARY:Treffen des Seniorenkreises Saal im Pfarrzentrum
URL:https://pg-um-den-findelberg.de/aktuelles/termine/event/306-treffen-des
 -seniorenkreises-saal-im-pfarrzentrum
END:VEVENT
BEGIN:VEVENT
UID:20260420T155653CEST-02750CozSU@https://pg-um-den-findelberg.de/
DTSTAMP:20260420T135653Z
DESCRIPTION:anschließend kleiner Umtrunk zum Muttertag https://pg-um-den-fi
 ndelberg.de/aktuelles/termine/event/304-musikalische-andacht-mit-den-hauba
 ch-rebellen
DTSTART:20260510T163000Z
DTEND:20260510T180000Z
LOCATION:Findelberg (Findelberg\, 97633\, Saal a.d. Saale\, Bayern)
SUMMARY:musikalische Andacht mit den Haubach-Rebellen
URL:https://pg-um-den-findelberg.de/aktuelles/termine/event/304-musikalisch
 e-andacht-mit-den-haubach-rebellen
END:VEVENT
BEGIN:VEVENT
UID:20260420T155653CEST-0277x7muiI@https://pg-um-den-findelberg.de/
DTSTAMP:20260420T135653Z
DESCRIPTION: https://pg-um-den-findelberg.de/aktuelles/termine/event/303-sp
 ielenachmittag
DTSTART:20260430T120000Z
DTEND:20260430T150000Z
LOCATION:Saal Pfarrzentrum (Herrngasse 5\, 97633\, Saal a.d. Saale\, Bayern
 )
SUMMARY:Spielenachmittag
URL:https://pg-um-den-findelberg.de/aktuelles/termine/event/303-spielenachm
 ittag
END:VEVENT
END:VCALENDAR
