BEGIN:VCALENDAR
VERSION:2.0
PRODID:-//https://pg-um-den-findelberg.de///NONSGML kigkonsult.se iCalcreator 2.10.15//
METHOD:PUBLISH
BEGIN:VEVENT
UID:20260420T173359CEST-6118Ezi0jg@https://pg-um-den-findelberg.de/
DTSTAMP:20260420T153359Z
DESCRIPTION:Herzliche Einladung an alle Täuflinge mit Familien aus dem Past
 oralen Raum Bad Königshofen\, die vom Juli 2025 bis 19. Juli 2026 getauft 
 wurden\nBitte Anmeldung bis 30.06.2026 im Pfarrbüro Wülfershausen https://
 pg-um-den-findelberg.de/aktuelles/termine/event/312-tauf-be-geisterung
DTSTART:20260719T120000Z
DTEND:20260719T140000Z
LOCATION:Findelberg (Findelberg\, 97633\, Saal a.d. Saale\, Bayern)
SUMMARY:Tauf-Be-Geisterung
URL:https://pg-um-den-findelberg.de/aktuelles/termine/event/312-tauf-be-gei
 sterung
END:VEVENT
END:VCALENDAR
