BEGIN:VCALENDAR
VERSION:2.0
PRODID:-//https://pg-um-den-findelberg.de///NONSGML kigkonsult.se iCalcreator 2.10.15//
METHOD:PUBLISH
BEGIN:VEVENT
UID:20260420T173527CEST-1772nvg4D5@https://pg-um-den-findelberg.de/
DTSTAMP:20260420T153527Z
DESCRIPTION: https://pg-um-den-findelberg.de/aktuelles/termine/event/311-se
 niorennachmittag-in-der-brückenschänke
DTSTART:20260709T120000Z
DTEND:20260709T150000Z
LOCATION:Wülfershausen Brückenschänke (Hauptstraße 52\, 97618\, Wülfershaus
 en a.d. Saale\, Bayern)
SUMMARY:Seniorennachmittag in der Brückenschänke
URL:https://pg-um-den-findelberg.de/aktuelles/termine/event/311-seniorennac
 hmittag-in-der-brückenschänke
END:VEVENT
END:VCALENDAR
