BEGIN:VCALENDAR
VERSION:2.0
PRODID:-//https://pg-um-den-findelberg.de///NONSGML kigkonsult.se iCalcreator 2.10.15//
METHOD:PUBLISH
BEGIN:VEVENT
UID:20260422T004149CEST-5021j9CfJ2@https://pg-um-den-findelberg.de/
DTSTAMP:20260421T224149Z
DESCRIPTION: https://pg-um-den-findelberg.de/aktuelles/kalender/event/295-s
 eniorennachmittag-im-sportheim
DTSTART:20260611T120000Z
DTEND:20260611T150000Z
LOCATION:Wülfershausen DJK-Sportheim (Am Sportplatz 10\, 97618\, Wülfershau
 sen a.d. Saale\, Bayern)
SUMMARY:Seniorennachmittag im Sportheim
URL:https://pg-um-den-findelberg.de/aktuelles/kalender/event/295-seniorenna
 chmittag-im-sportheim
END:VEVENT
BEGIN:VEVENT
UID:20260422T004149CEST-5023vuufTd@https://pg-um-den-findelberg.de/
DTSTAMP:20260421T224149Z
DESCRIPTION: https://pg-um-den-findelberg.de/aktuelles/kalender/event/306-t
 reffen-des-seniorenkreises-saal-im-pfarrzentrum
DTSTART:20260610T120000Z
DTEND:20260610T150000Z
LOCATION:Saal Pfarrzentrum (Herrngasse 5\, 97633\, Saal a.d. Saale\, Bayern
 )
SUMMARY:Treffen des Seniorenkreises Saal im Pfarrzentrum
URL:https://pg-um-den-findelberg.de/aktuelles/kalender/event/306-treffen-de
 s-seniorenkreises-saal-im-pfarrzentrum
END:VEVENT
END:VCALENDAR
