BEGIN:VCALENDAR
VERSION:2.0
PRODID:-//https://pg-um-den-findelberg.de///NONSGML kigkonsult.se iCalcreator 2.10.15//
METHOD:PUBLISH
BEGIN:VEVENT
UID:20260422T071710CEST-4088S6Fmfm@https://pg-um-den-findelberg.de/
DTSTAMP:20260422T051710Z
DESCRIPTION:anschl. Begegnung und gemütliches Beisammensein https://pg-um-d
 en-findelberg.de/aktuelles/kalender/event/309-dankgottesdienst-für-ehrenam
 tliche-der-caritas
DTSTART:20260705T160000Z
DTEND:20260705T180000Z
LOCATION:Findelberg (Findelberg\, 97633\, Saal a.d. Saale\, Bayern)
SUMMARY:Dankgottesdienst für Ehrenamtliche der Caritas
URL:https://pg-um-den-findelberg.de/aktuelles/kalender/event/309-dankgottes
 dienst-für-ehrenamtliche-der-caritas
END:VEVENT
END:VCALENDAR
