BEGIN:VCALENDAR
VERSION:2.0
PRODID:-//https://pg-um-den-findelberg.de///NONSGML kigkonsult.se iCalcreator 2.10.15//
METHOD:PUBLISH
BEGIN:VEVENT
UID:20260420T105952CEST-0732uZXlf2@https://pg-um-den-findelberg.de/
DTSTAMP:20260420T085952Z
DESCRIPTION: https://pg-um-den-findelberg.de/aktuelles/kalender/event/301-s
 pielenachmittag
DTSTART:20260625T120000Z
DTEND:20260625T150000Z
LOCATION:Saal Pfarrzentrum (Herrngasse 5\, 97633\, Saal a.d. Saale\, Bayern
 )
SUMMARY:Spielenachmittag
URL:https://pg-um-den-findelberg.de/aktuelles/kalender/event/301-spielenach
 mittag
END:VEVENT
END:VCALENDAR
