BEGIN:VCALENDAR
VERSION:2.0
PRODID:-//https://pg-um-den-findelberg.de///NONSGML kigkonsult.se iCalcreator 2.10.15//
METHOD:PUBLISH
BEGIN:VEVENT
UID:20260421T123140CEST-4012cfENhi@https://pg-um-den-findelberg.de/
DTSTAMP:20260421T103140Z
DESCRIPTION: https://pg-um-den-findelberg.de/aktuelles/kalender/event/151-s
 eniorennachmittag-in-der-brückenschänke
DTSTART:20260507T120000Z
DTEND:20260507T150000Z
LOCATION:Wülfershausen Brückenschänke (Hauptstraße 52\, 97618\, Wülfershaus
 en a.d. Saale\, Bayern)
SUMMARY:Seniorennachmittag in der Brückenschänke
URL:https://pg-um-den-findelberg.de/aktuelles/kalender/event/151-seniorenna
 chmittag-in-der-brückenschänke
END:VEVENT
END:VCALENDAR
