BEGIN:VCALENDAR
VERSION:2.0
PRODID:-//https://pg-um-den-findelberg.de///NONSGML kigkonsult.se iCalcreator 2.10.15//
METHOD:PUBLISH
BEGIN:VEVENT
UID:20260421T192101CEST-06119exmJL@https://pg-um-den-findelberg.de/
DTSTAMP:20260421T172101Z
DESCRIPTION: https://pg-um-den-findelberg.de/aktuelles/kalender/event/195-e
 rstkommunionfeier-2026
DTSTART:20260509T080000Z
DTEND:20260509T093000Z
LOCATION:Saal Pfarrkirche (An der Kirche\, 97633\, Saal a.d. Saale\, Bayern
 )
SUMMARY:Erstkommunionfeier 2026
URL:https://pg-um-den-findelberg.de/aktuelles/kalender/event/195-erstkommun
 ionfeier-2026
END:VEVENT
END:VCALENDAR
